BEGIN:VCALENDAR
VERSION:2.0
PRODID:-//Ugsel Vendée- Fédération sportive éducative de l&#039;enseignement catholique - ECPv6.15.20//NONSGML v1.0//EN
CALSCALE:GREGORIAN
METHOD:PUBLISH
X-ORIGINAL-URL:https://ugsel.ddec85.org
X-WR-CALDESC:Évènements pour Ugsel Vendée- Fédération sportive éducative de l&#039;enseignement catholique
REFRESH-INTERVAL;VALUE=DURATION:PT1H
X-Robots-Tag:noindex
X-PUBLISHED-TTL:PT1H
BEGIN:VTIMEZONE
TZID:Europe/Paris
BEGIN:DAYLIGHT
TZOFFSETFROM:+0100
TZOFFSETTO:+0200
TZNAME:CEST
DTSTART:20230326T010000
END:DAYLIGHT
BEGIN:STANDARD
TZOFFSETFROM:+0200
TZOFFSETTO:+0100
TZNAME:CET
DTSTART:20231029T010000
END:STANDARD
BEGIN:DAYLIGHT
TZOFFSETFROM:+0100
TZOFFSETTO:+0200
TZNAME:CEST
DTSTART:20240331T010000
END:DAYLIGHT
BEGIN:STANDARD
TZOFFSETFROM:+0200
TZOFFSETTO:+0100
TZNAME:CET
DTSTART:20241027T010000
END:STANDARD
BEGIN:DAYLIGHT
TZOFFSETFROM:+0100
TZOFFSETTO:+0200
TZNAME:CEST
DTSTART:20250330T010000
END:DAYLIGHT
BEGIN:STANDARD
TZOFFSETFROM:+0200
TZOFFSETTO:+0100
TZNAME:CET
DTSTART:20251026T010000
END:STANDARD
END:VTIMEZONE
BEGIN:VEVENT
DTSTART;TZID=Europe/Paris:20241106T120000
DTEND;TZID=Europe/Paris:20241106T170000
DTSTAMP:20260422T124647
CREATED:20241023T081450Z
LAST-MODIFIED:20241023T081600Z
UID:22823-1730894400-1730912400@ugsel.ddec85.org
SUMMARY:Futsal lycées
DESCRIPTION:
URL:https://ugsel.ddec85.org/event/futsal-lycees/
CATEGORIES:Compétition
END:VEVENT
BEGIN:VEVENT
DTSTART;TZID=Europe/Paris:20241113T120000
DTEND;TZID=Europe/Paris:20241113T120000
DTSTAMP:20260422T124647
CREATED:20241023T081750Z
LAST-MODIFIED:20241023T081750Z
UID:22825-1731499200-1731499200@ugsel.ddec85.org
SUMMARY:Cross départemental 2nd degré
DESCRIPTION:
URL:https://ugsel.ddec85.org/event/cross-departemental-2nd-degre/
LOCATION:Les Terres Noires- LA ROCHE SUR YON
CATEGORIES:Compétition
END:VEVENT
BEGIN:VEVENT
DTSTART;TZID=Europe/Paris:20241118T180000
DTEND;TZID=Europe/Paris:20241118T203000
DTSTAMP:20260422T124647
CREATED:20241023T082949Z
LAST-MODIFIED:20241023T082949Z
UID:22842-1731952800-1731961800@ugsel.ddec85.org
SUMMARY:Commission élémentaire
DESCRIPTION:
URL:https://ugsel.ddec85.org/event/commission-elementaire-5/
LOCATION:DEC- Route de Mouilleron 85000 LA ROCHE SUR YON
CATEGORIES:Réunion
END:VEVENT
BEGIN:VEVENT
DTSTART;TZID=Europe/Paris:20241120T090000
DTEND;TZID=Europe/Paris:20241120T120000
DTSTAMP:20260422T124647
CREATED:20241023T082622Z
LAST-MODIFIED:20241023T082622Z
UID:22835-1732093200-1732104000@ugsel.ddec85.org
SUMMARY:Matinée d'animation pédagogique "Volley smashy"
DESCRIPTION:
URL:https://ugsel.ddec85.org/event/matinee-danimation-pedagogique-volley-smashy/
LOCATION:à définir
CATEGORIES:Formation
END:VEVENT
BEGIN:VEVENT
DTSTART;TZID=Europe/Paris:20241120T133000
DTEND;TZID=Europe/Paris:20241120T163000
DTSTAMP:20260422T124647
CREATED:20241023T082753Z
LAST-MODIFIED:20241023T082753Z
UID:22838-1732109400-1732120200@ugsel.ddec85.org
SUMMARY:Formation des jeunes juges en athlétisme
DESCRIPTION:
URL:https://ugsel.ddec85.org/event/formation-des-jeunes-juges-en-athletisme/
LOCATION:Moutiers les Mauxfaits
CATEGORIES:Formation
END:VEVENT
BEGIN:VEVENT
DTSTART;TZID=Europe/Paris:20241127T120000
DTEND;TZID=Europe/Paris:20241127T170000
DTSTAMP:20260422T124647
CREATED:20241023T082847Z
LAST-MODIFIED:20241202T110538Z
UID:22840-1732708800-1732726800@ugsel.ddec85.org
SUMMARY:Secteurs : Badminton des lycées
DESCRIPTION:
URL:https://ugsel.ddec85.org/event/badminton-lycees/
CATEGORIES:Compétition
END:VEVENT
END:VCALENDAR